BEGIN:VCALENDAR
VERSION:2.0
PRODID:-//Library Market//iCal Export//EN
BEGIN:VEVENT
SUMMARY:Socks for Dad
UID:47577
DTSTAMP:20260421T031200Z
DTSTART:20260603T220000Z
DTEND:20260603T233000Z
LOCATION:West Babylon Public Library, 211 NY-109, West Babylon, NY 11704, 
 United States
ROOM: Makerspace: Cricut Maker 3 + Heat Press
DESCRIPTION:SOCKS FOR DADWednesday, June 3, 6-7:30 pmGrades 6 – 12Using 
 our Makerspace Sublimation Printer &amp; Heat Press, design and create soc
 ks for dad! 
URL:https://westbabylon.librarycalendar.com/event/socks-dad-47577
END:VEVENT
END:VCALENDAR
