BEGIN:VCALENDAR
VERSION:2.0
PRODID:-//Library Market//iCal Export//EN
BEGIN:VEVENT
SUMMARY:Mom&#039;s Meals Information Table
UID:49269
DTSTAMP:20260424T092900Z
DTSTART:20260427T150000Z
DTEND:20260427T170000Z
LOCATION:West Babylon Public Library, 211 Route 109, West Babylon, NY 1170
 4, United States
ROOM: Fish Tank Area
DESCRIPTION:MOM&#039;S MEALS Information TableMom&#039;s Meals is a nutrit
 ion services provider that delivers medically tailored meals and food-as-m
 edicine solutions to support individuals with chronic conditions and other
  health-related needs.
URL:https://westbabylon.librarycalendar.com/index.php/event/moms-meals-inf
 ormation-table-49269
END:VEVENT
END:VCALENDAR
